BEGIN:VCALENDAR
VERSION:2.0
PRODID:-//Wisconsin Black Chamber of Commerce, Inc. - ECPv6.15.20//NONSGML v1.0//EN
CALSCALE:GREGORIAN
METHOD:PUBLISH
X-WR-CALNAME:Wisconsin Black Chamber of Commerce, Inc.
X-ORIGINAL-URL:https://www.twbcc.com
X-WR-CALDESC:Events for Wisconsin Black Chamber of Commerce, Inc.
REFRESH-INTERVAL;VALUE=DURATION:PT1H
X-Robots-Tag:noindex
X-PUBLISHED-TTL:PT1H
BEGIN:VTIMEZONE
TZID:America/New_York
BEGIN:DAYLIGHT
TZOFFSETFROM:-0500
TZOFFSETTO:-0400
TZNAME:EDT
DTSTART:20250309T070000
END:DAYLIGHT
BEGIN:STANDARD
TZOFFSETFROM:-0400
TZOFFSETTO:-0500
TZNAME:EST
DTSTART:20251102T060000
END:STANDARD
BEGIN:DAYLIGHT
TZOFFSETFROM:-0500
TZOFFSETTO:-0400
TZNAME:EDT
DTSTART:20260308T070000
END:DAYLIGHT
BEGIN:STANDARD
TZOFFSETFROM:-0400
TZOFFSETTO:-0500
TZNAME:EST
DTSTART:20261101T060000
END:STANDARD
BEGIN:DAYLIGHT
TZOFFSETFROM:-0500
TZOFFSETTO:-0400
TZNAME:EDT
DTSTART:20270314T070000
END:DAYLIGHT
BEGIN:STANDARD
TZOFFSETFROM:-0400
TZOFFSETTO:-0500
TZNAME:EST
DTSTART:20271107T060000
END:STANDARD
END:VTIMEZONE
BEGIN:VEVENT
DTSTART;TZID=America/New_York:20260207T130000
DTEND;TZID=America/New_York:20260207T160000
DTSTAMP:20260423T095259
CREATED:20260109T200707Z
LAST-MODIFIED:20260125T205541Z
UID:2648-1770469200-1770480000@www.twbcc.com
SUMMARY:501c3 Workshop
DESCRIPTION:501c3 Workshop\n				\n				February 7\, 2026 -2212 N Vel R. Phillips Avenue\n	\n		\n		Milwaukee\,\n\n	WI\n\n	53212\n\n	United States\n				\n			\n			\n				\n				\n			\n			\n				Find out more\n			\n		\nInformation about Form 1023\, Application for Recognition of Exemption Under Section 501(c)(3) of the Internal Revenue Code\, including recent updates\, related forms and instructions on how to file.
URL:https://www.twbcc.com/event/501c3-workshop-3/
LOCATION:2900 W Vliet St\, Milwaukee\, WI 53208\, USA\, 2212 N Vel R. Phillips Avenue\, Milwaukee\, WI\, 53212\, United States
CATEGORIES:1st Saturday
ATTACH;FMTTYPE=image/png:https://www.twbcc.com/wp-content/uploads/2025/11/Artboard-2.png
ORGANIZER;CN="Wisconsin Black Chamber of Commerce%2C Inc.":MAILTO:admin@twbcc.com
END:VEVENT
END:VCALENDAR