BEGIN:VCALENDAR
VERSION:2.0
PRODID:-//Wisconsin Black Chamber of Commerce, Inc. - ECPv6.15.20//NONSGML v1.0//EN
CALSCALE:GREGORIAN
METHOD:PUBLISH
X-WR-CALNAME:Wisconsin Black Chamber of Commerce, Inc.
X-ORIGINAL-URL:https://www.twbcc.com
X-WR-CALDESC:Events for Wisconsin Black Chamber of Commerce, Inc.
REFRESH-INTERVAL;VALUE=DURATION:PT1H
X-Robots-Tag:noindex
X-PUBLISHED-TTL:PT1H
BEGIN:VTIMEZONE
TZID:America/Chicago
BEGIN:DAYLIGHT
TZOFFSETFROM:-0600
TZOFFSETTO:-0500
TZNAME:CDT
DTSTART:20250309T080000
END:DAYLIGHT
BEGIN:STANDARD
TZOFFSETFROM:-0500
TZOFFSETTO:-0600
TZNAME:CST
DTSTART:20251102T070000
END:STANDARD
BEGIN:DAYLIGHT
TZOFFSETFROM:-0600
TZOFFSETTO:-0500
TZNAME:CDT
DTSTART:20260308T080000
END:DAYLIGHT
BEGIN:STANDARD
TZOFFSETFROM:-0500
TZOFFSETTO:-0600
TZNAME:CST
DTSTART:20261101T070000
END:STANDARD
BEGIN:DAYLIGHT
TZOFFSETFROM:-0600
TZOFFSETTO:-0500
TZNAME:CDT
DTSTART:20270314T080000
END:DAYLIGHT
BEGIN:STANDARD
TZOFFSETFROM:-0500
TZOFFSETTO:-0600
TZNAME:CST
DTSTART:20271107T070000
END:STANDARD
END:VTIMEZONE
BEGIN:VEVENT
DTSTART;TZID=America/Chicago:20260411T090000
DTEND;TZID=America/Chicago:20260411T130000
DTSTAMP:20260423T074434
CREATED:20260109T200445Z
LAST-MODIFIED:20260402T175930Z
UID:2644-1775898000-1775912400@www.twbcc.com
SUMMARY:Members Only - 2nd Saturday Business Reviews
DESCRIPTION:ACN Non-Traditional Business Opportunity \nBusiness Snap-Shop Report \nAI/BOT Investing \nWorld Trade and the Effects of Tariffs
URL:https://www.twbcc.com/event/members-only-2nd-saturday-business-reviews-3/
LOCATION:2900 W Vliet St\, Milwaukee\, WI 53208\, USA\, 2212 N Vel R. Phillips Avenue\, Milwaukee\, WI\, 53212\, United States
CATEGORIES:2nd Saturday
ATTACH;FMTTYPE=image/jpeg:https://www.twbcc.com/wp-content/uploads/2025/09/2ND-SAT-6.9-1-scaled.jpg
ORGANIZER;CN="Wisconsin Black Chamber of Commerce%2C Inc.":MAILTO:admin@twbcc.com
END:VEVENT
END:VCALENDAR